BEGIN:VCALENDAR
VERSION:2.0
PRODID:-//hacksw/handcal//NONSGML v1.0//EN
BEGIN:VEVENT
DTSTART:20260520T184500
DTEND:20260520T201500
LOCATION:IFM
ORGANIZER;CN=Olivia CHAMMAS:MAILTO:olivia.c@ifm-alumni.fr
SUMMARY:Coaching - Introvertis, comment rayonner en entreprise
DESCRIPTION:Vous appréciez le calme et la solitude ?\nCeux que vous rencontrez, en groupe, vous pensent discret voire...timide ?\nVous pensez manquer de répartie en réunion, lors d’entretiens, etc. \nLors d’un...
URL:https://www.ifm-alumni.fr/fr/event/coaching-introvertis-comment-rayonner-en-entreprise/2026/05/20/621
BEGIN:VALARM
TRIGGER:-P0DT1H0M0S
ACTION:DISPLAY
END:VALARM
END:VEVENT
END:VCALENDAR