BEGIN:VCALENDAR
VERSION:2.0
PRODID:-//hacksw/handcal//NONSGML v1.0//EN
BEGIN:VEVENT
DTSTART:20250604T190000
DTEND:20250604T203000
LOCATION:IFM
ORGANIZER;CN=Olivia CHAMMAS:MAILTO:olivia.c@ifm-alumni.fr
SUMMARY:L'Avenir des Musées de Mode
DESCRIPTION:"Indéniablement, la mode est capable de déplacer les foules au musée."  Elvire von Bardeleben, Le Monde, 11 avril 2025  Le Club Culture & Fashion d'IFM Alumni vous convie à sa première table ronde sur...
URL:https://www.ifm-alumni.fr/fr/event/l-avenir-des-musees-de-mode/2025/06/04/593
BEGIN:VALARM
TRIGGER:-P0DT1H0M0S
ACTION:DISPLAY
END:VALARM
END:VEVENT
END:VCALENDAR