BEGIN:VCALENDAR
VERSION:2.0
PRODID:-//hacksw/handcal//NONSGML v1.0//EN
BEGIN:VEVENT
DTSTART:20250206T184500
DTEND:20250206T200000
LOCATION:
ORGANIZER;CN=Olivia CHAMMAS:MAILTO:olivia.c@ifm-alumni.fr
SUMMARY:Online - Why freelancing is a good option with Youwie Roes (Eyes On Talents)
DESCRIPTION:In this presentation Youwie Roes from Eyes on Talents looks through the lense of freelancing today. Case study analysis and and a deep dive into the workings of the creative industry form the core of ...
URL:https://www.ifm-alumni.fr/fr/event/online-why-freelancing-is-a-good-option-with-youwie-roes-eyes-on-talents/2025/02/06/573
BEGIN:VALARM
TRIGGER:-P0DT1H0M0S
ACTION:DISPLAY
END:VALARM
END:VEVENT
END:VCALENDAR