BEGIN:VCALENDAR
VERSION:2.0
PRODID:-//hacksw/handcal//NONSGML v1.0//EN
BEGIN:VEVENT
DTSTART:20201029T090000
DTEND:20201029T100000
LOCATION:
ORGANIZER;CN=Patricia LEFEBVRE-MILON:MAILTO:plm@linnaccessoire.com
SUMMARY:Workshop Career & Coaching n°7 :  A propos de votre portfolio ...
DESCRIPTION:Chers alumni, \nNous avons, dans le cadre de notre série d’ateliers Career & Coaching, le plaisir de vous proposer un 7ème rendez-vous cette fois à destination de ceux d’entre nous qui cherchent à...
URL:https://www.ifm-alumni.fr/fr/event/workshop-career-coaching-n-7-a-propos-de-votre-portfolio/2020/10/29/227
BEGIN:VALARM
TRIGGER:-P0DT1H0M0S
ACTION:DISPLAY
END:VALARM
END:VEVENT
END:VCALENDAR