BEGIN:VCALENDAR
VERSION:2.0
PRODID:-//hacksw/handcal//NONSGML v1.0//EN
BEGIN:VEVENT
DTSTART:20180309T184500
DTEND:20180309T210000
LOCATION:Cité de la Mode et du Design \n36, Quai d'Austerlitz \n75013 PARIS
ORGANIZER;CN=Patricia Lefebvre Milon:MAILTO:plm@linnaccessoire.com
SUMMARY:Expo & Co : Visite Privée par Peter Knapp
DESCRIPTION:Chers Alumni,\nLe Pôle Expo & Co a l'immense plaisir de vous convier à l'exposition de Peter Knapp « Dancing in the Street, la Mode en mouvement » où l'artiste Peter Knapp en personne viendra nous...
URL:https://www.ifm-alumni.fr/fr/event/expo-co-visite-privee-par-peter-knapp/2018/03/09/20
BEGIN:VALARM
TRIGGER:-P0DT1H0M0S
ACTION:DISPLAY
END:VALARM
END:VEVENT
END:VCALENDAR