BEGIN:VCALENDAR
VERSION:2.0
PRODID:-//hacksw/handcal//NONSGML v1.0//EN
BEGIN:VEVENT
DTSTART:20190416T184500
DTEND:20190416T210000
LOCATION:Institut Français de la Mode  \n36, Quai d'Austerlitz \n75013 PARIS
ORGANIZER;CN=Patricia LEFEBVRE-MILON:MAILTO:plm@linnaccessoire.com
SUMMARY:Inspirez, Respirez, Créez
DESCRIPTION:Chers Alumni,\nNous avons le plaisir de vous proposer le 16 avril prochain un atelier pour faire l’expérience du «Processus de Créativité».\nNotre atelier se tiendra en trois temps :\n1 - Définir ce...
URL:https://www.ifm-alumni.fr/fr/event/inspirez-respirez-creez/2019/04/16/112
BEGIN:VALARM
TRIGGER:-P0DT1H0M0S
ACTION:DISPLAY
END:VALARM
END:VEVENT
END:VCALENDAR