BEGIN:VCALENDAR
VERSION:2.0
PRODID:-//hacksw/handcal//NONSGML v1.0//EN
BEGIN:VEVENT
DTSTART:20250913T100000
DTEND:20250913T193000
LOCATION:Domaine des Oseraies \n13 rue des Fontaines \n28210 Faverolles
ORGANIZER;CN=Olivia CHAMMAS:MAILTO:olivia.c@ifm-alumni.fr
SUMMARY:Rencontres de Faverolles, Forum de la Mode
DESCRIPTION:Rencontres de Faverolles, Forum de la Mode \nLast year's edition was a big success with its new format giving it a more professional focus with dedicated content. The 2025 edition of Rencontres de...
URL:https://www.ifm-alumni.fr/en/event/rencontres-de-faverolles-forum-de-la-mode/2025/09/13/599
BEGIN:VALARM
TRIGGER:-P0DT1H0M0S
ACTION:DISPLAY
END:VALARM
END:VEVENT
END:VCALENDAR