BEGIN:VCALENDAR
VERSION:2.0
PRODID:-//hacksw/handcal//NONSGML v1.0//EN
BEGIN:VEVENT
DTSTART:20201029T090000
DTEND:20201029T100000
LOCATION:
ORGANIZER;CN=Patricia LEFEBVRE-MILON:MAILTO:plm@linnaccessoire.com
SUMMARY:Workshop Career & Coaching n°7 :  What about your Portfolio ?
DESCRIPTION:Dear alumni,\nWe are very pleased to invite you to take part fo a new workshop for the alumni who are looking to develop their portfolio.This meeting is organized fon Thursday, October, 29th 2020 from...
URL:https://www.ifm-alumni.fr/en/event/workshop-career-coaching-n-7-what-about-your-portfolio/2020/10/29/227
BEGIN:VALARM
TRIGGER:-P0DT1H0M0S
ACTION:DISPLAY
END:VALARM
END:VEVENT
END:VCALENDAR