BEGIN:VCALENDAR
VERSION:2.0
PRODID:-//hacksw/handcal//NONSGML v1.0//EN
BEGIN:VEVENT
DTSTART:20190613T183000
DTEND:20190613T210000
LOCATION:Institut Français de la ode \n36, Quai d'Austerlitz \n75013 PARIS
ORGANIZER;CN=Patricia LEFEBVRE-MILON:MAILTO:plm@linnaccessoire.com
SUMMARY:Savoir-Faire et Textiles Africains - CNRS - IHTP et IFM Alumni
DESCRIPTION:Chers alumni, A la suite de la conférence sur les savoir-faire des textiles africains au CNRS, nous vous proposons de venir découvrir le deuxième opus sur la création Mode & l’Innovation, sous un...
URL:https://www.ifm-alumni.fr/en/event/savoir-faire-et-textiles-africains-cnrs-ihtp-et-ifm-alumni/2019/06/13/151
BEGIN:VALARM
TRIGGER:-P0DT1H0M0S
ACTION:DISPLAY
END:VALARM
END:VEVENT
END:VCALENDAR